Workbook
Name Text1: Anmeldung!#REF!
Name Text1: Finanzierungsplan!#REF!
Name Text1: Förderantrag!#REF!

Sheet Anmeldung
B2: Veranstaltende Organisation: | G2: Ansprechperson:
B4: Anschrift: | G4: Telefon:
G6: E-Mail:
B12: Stiftung Orte der deutschen Demokratiegeschichte | G12: Eine Übersendung des vollständig ausgefüllten und unterzeichneten Formulars als PDF-Scan zusätzlich zur Excel-Datei per E-Mail an demokratiegeschichte@dnb.de ist ausreichend.
B13: Adickesallee 1
B14: 60322 Frankfurt am Main
B16: Tag der Demokratiegeschichte 2027
B17: Anmeldung einer Veranstaltung im Aktionszeitraum vom 18. bis zum 21. März 2027
B19: Titel der Veranstaltung (ggf. Arbeitstitel): | G19: Ort der Veranstaltung (Adresse):
B22: Veranstaltungsformat: | G22: Straße, Hausnummer, Postleitzahl, Ort
B24: Beispiele: Vortrag, Podiumsdiskussion, Zeitzeugengespräch, Ausstellung, Führung, Theater, Konzert, Comic-Workshop. | G24: Bundesland:
B25: Kurzbeschreibung der Veranstaltung:
G27: Datum der Veranstaltung:
G30: Uhrzeit des Veranstaltungsbeginns:
B31: Hinweis: Maximal 500 Zeichen mit Leerzeichen.
B32: Wie wird in der Veranstaltung die Demokratiegeschichte thematisiert?
G33: Uhrzeit des voraussichtlichen Veranstaltungsendes:
G37: Personengruppen, die erreicht werden sollen:
G38: Kinder und Jugendliche
B39: Link zur Veranstaltungsseite: | G39: Junge Erwachsene (18 bis 25)
G40: Erwachsene
B41: Hinweis: Der Link kann nachgereicht werden. | G41: Ältere Menschen (65+)
B42: Personenzahl, die mit der Veranstaltung voraussichtlich erreicht wird: | G42: Menschen mit Migrationsgeschichte
B43: Bis 50 | G43: Menschen mit Behinderung
B44: 51 bis 100 | G44: Bildungsbenachteiligte
B45: 101 bis 250 | G45: Erwerbslose
B46: Mehr als 250 | G46: Sonstige
B48: Zur Durchführung der Veranstaltung ist es möglich, eine Zuwendung in Höhe von bis zu 90% der förderfähigen Gesamtausgaben (max. 1.500,00 Euro Förderung) zu
B49: erhalten. Dazu ist das Antragsformular auf den nächsten Seiten auszufüllen und gemeinsam mit der Anmeldung zur Veranstaltung bis zum 01.11.2026 einzureichen.
B50: Beantragung einer Förderung? | D50: Ja Nein | E50: Hinweis: Anmeldungen ohne Förderantrag können bis zum 31.01.2027 eingereicht werden.
B55: Ort, Datum, Name, Vorname, Funktion, Unterschrift, Stempel (falls vorhanden)

Sheet Förderantrag
B2: Antragstellende Organisation: | G2: Ansprechperson:
B3: =Anmeldung!B3 -> 0 | G3: =Anmeldung!G3 -> 0
B4: Rechtsform der Organisation: | D4: Antragsberechtigt sind gemeinnützige juristische Personen des privaten sowie juristische Personen öffentlichen Rechts jeweils mit Sitz in Deutschland. | G4: Telefon:
G5: =Anmeldung!G5 -> 0
B6: Anschrift: | G6: E-Mail:
B7: =Anmeldung!B5 -> 0 | G7: =Anmeldung!G7 -> 0
B12: Stiftung Orte der deutschen Demokratiegeschichte | G12: Eine Übersendung des vollständig ausgefüllten und unterzeichneten Formulars als PDF-Scan zusätzlich zur Excel-Datei per E-Mail an demokratiegeschichte@dnb.de ist ausreichend.
B13: Adickesallee 1
B14: 60322 Frankfurt am Main
B16: Tag der Demokratiegeschichte 2027
B17: Antrag auf Förderung einer Veranstaltung im Aktionszeitraum vom 18. bis zum 21. März 2027
B19: Mit diesem Förderprogramm können Veranstaltungen mit bis zu 1.500 Euro gefördert werden, die sich im Aktionszeitraum vom 18. bis zum 21. März 2027 am
B20: Tag der Demokratiegeschichte 2027 beteiligen. Förderfähig sind veranstaltungsbezogene Ausgaben, die nicht durch den Regelbetrieb bereits gedeckt sind.
B21: Zu den förderfähigen Ausgaben zählen projektbezogene Sachausgaben und Honorare. Die Förderhöhe beträgt bis zu 90% der förderfähigen Gesamtausgaben.
B22: Das heißt, zur Finanzierung muss ein Eigenanteil in Höhe von mindestens 10% der förderfähigen Gesamtausgaben eingesetzt werden.
B24: Titel des Projekts: | G24: Durchführungszeitraum:
G25: 01.01. bis 31.03.2027
B26: Hinweis: Der Titel des Projekts entspricht in der Regel dem Titel der Veranstaltung. Während der Titel der Veranstaltung zu Zwecken der Öffentlichkeitsarbeit noch geändert werden kann, wird der Titel des Projekts im gesamten Förderverfahren unverändert beibehalten. | G26: Voraussetzung: Bestätigung des Zeitraums in der Bewilligung des Antrags.
B28: Erklärung als vertretungsberechtige Person:
B30: Mit dem Vorhaben wurde noch nicht begonnen und wird bis zur Bewilligung der Förderung oder des vorzeitigen Maßnahmenbeginns auch nicht begonnen.*
B31: (vgl. VV 3.2.1 zu § 44 BHO)
B32: Ich beantrage die Zustimmung zum förderunschädlichen vorzeitigen Maßnahmenbeginn zum 01.01.2027.
B34: Die Angaben in diesem Antrag, der Anmeldung, dem Finanzierungsplan und in weiteren Anlagen sind vollständig, richtig und durch Unterlagen jederzeit belegbar.
B35: Die Fördergrundsätze der Stiftung Orte der deutschen Demokratiegeschichte (nachfolgend: SODG) sind mir bekannt und ich erkläre mich mit ihnen einverstanden.*
B36: (siehe https://www.demokratie-geschichte.de/foerdergrundsaetze/)
B37: Weitere Mittel als im Finanzierungsplan angegeben wurden nicht beantragt. Die im Finanzierungsplan angegebenen Eigenmittel stehen verbindlich zur Verfügung
B38: und alle Änderungen, die Auswirkungen auf das Vorhaben oder den Finanzierungsplan haben können, werde ich der SODG umgehend mitteilen.*
B39: (vgl. VV 3.2.1 zu § 44 BHO)
B40: Eine ordnungsgemäße Geschäftsführung, die eine eindeutige Zuordnung aller projektbezogenen Einnahmen und Ausgaben sicherstellt, ist gewährleistet. Ich bin
B41: darüber hinaus in der Lage, die Verwendung der Mittel bestimmungsgemäß nachzuweisen.*
... B53: Bitte geben Sie hier den Namen der vertretungsberechtigten natürlichen Person an. Bitte beachten Sie, dass diese Person identisch ist mit der auf den Dokumenten, in denen Sie bspw. die Zeichnungsbefugnis nachweisen (für gemeinnützige Vereine sind das z.B. die Satzung und der Vereinsregisterauszug).
B54: =Anmeldung!B54 -> 0
B55: Ort, Datum, Name, Vorname, Funktion, Unterschrift, Stempel (falls vorhanden)

Sheet Finanzierungsplan
B2: Antragstellende Organisation: | H2: Ansprechperson:
B3: =Anmeldung!B3 -> 0 | H3: =Anmeldung!G3 -> 0
B4: Rechtsform der Organisation: | H4: Telefon:
B5: =Förderantrag!B5 -> 0 | H5: =Anmeldung!G5 -> 0
B6: Anschrift: | H6: E-Mail:
B7: =Anmeldung!B5 -> 0 | H7: =Anmeldung!G7 -> 0
B8: Titel des Projekts: | H8: Durchführungszeitraum:
B9: =Förderantrag!B25 -> 0 | H9: 01.01. bis 31.03.2027
B11: Finanzierungsplan
B12: Anlage zum Antrag auf Förderung einer Veranstaltung im Aktionszeitraum vom 18. bis zum 21. März 2027
B13: Grundlage des beantragten Zuwendungsbetrags ist dieser Finanzierungsplan (aufgegliederte Berechnung der mit dem Zuwendungszweck zusammenhängenden
B14: Ausgaben mit einer Übersicht über die beabsichtige Finanzierung; vgl. VV 3.2.1 zu § 44 BHO). Im Falle der Vorsteuerabzugsberechtigung sind die sich ergebenden
B15: Vorteile gemäß VV 3.2.3 zu § 44 BHO im Finanzierungsplan auszuweisen. Bitte beachten Sie auch die Hinweise zum Antragsverfahren (Merkblatt).
B17: 1. Ausgaben
B18: 1.1 Sachausgaben und Honorare
B19: lfd. Nr. | C19: Beschreibung der Sachausgaben und Honorare | I19: Betrag
B20: 1.1.1
B21: 1.1.2
B22: 1.1.3
B23: 1.1.4
B24: 1.1.5
B25: 1.1.6
B26: 1.1.7
B27: 1.1.8
B28: 1.1.9
B29: 1.1.10
B30: 1.1.11
B31: 1.1.12
... B34: 1.1.15
B35: Gesamtsumme der Sachausgaben und Honorare (wird automatisch berechnet): | I35: =SUM(I20:I34) -> 0
B36: 1.2 Fiktive Ausgaben, falls zutreffend: Wenn Sie Ihren Eigenanteil durch ehrenamtliche Arbeitsstunden einbringen möchten, geben Sie diese hier als fiktive Ausgaben an.
B37: lfd. Nr. | C37: Beschreibung der ehrenamtlichen Eigenleistung | H37: Anzahl der Stunden | I37: Betrag
B38: 1.2.1 | I38: =H38*15 -> 0
B39: 1.2.2 | I39: =H39*15 -> 0
B40: 1.2.3 | I40: =H40*15 -> 0
B41: 1.2.4 | I41: =H41*15 -> 0
B42: 1.2.5 | I42: =H42*15 -> 0
B43: Gesamtsumme der fiktiven Ausgaben [wird automatisch berechnet; maximal 150,00 Euro (10 % von 1.500,00 Euro)]: | I43: =MIN(150,(SUM(I38:I42))) -> 0
B44: Gesamtausgaben | I44: =SUM(I43, I35) -> 0
B45: 2. Finanzierung
...
